BEGIN:VCALENDAR
VERSION:2.0
PRODID:-//Squarespace Inc/Squarespace 6//v6//EN
BEGIN:VEVENT
UID:5f9207f3245b72169a3aa265@squarespace.com
DTSTAMP:20201113T131251Z
DTSTART:20201114T040000Z
DTEND:20201114T060000Z
SUMMARY:TWANG Youth Games and Pizza
END:VEVENT
END:VCALENDAR
