BEGIN:VCALENDAR
VERSION:2.0
PRODID:-//Squarespace Inc/Squarespace 6//v6//EN
BEGIN:VEVENT
UID:5fae86530e8bbf646f1a80aa@squarespace.com
DTSTAMP:20201113T133955Z
DTSTART:20201212T040000Z
DTEND:20201212T060000Z
SUMMARY:Christmas TWANG
END:VEVENT
END:VCALENDAR
