BEGIN:VCALENDAR
VERSION:2.0
PRODID:-//Squarespace Inc/Squarespace 6//v6//EN
BEGIN:VEVENT
UID:5e7da16d14477f68e7f09a29@squarespace.com
DTSTAMP:20200327T090355Z
DTSTART:20200329T000000Z
DTEND:20200329T010000Z
SUMMARY:Sunday Lounge
END:VEVENT
END:VCALENDAR
