BEGIN:VCALENDAR
VERSION:2.0
PRODID:-//Squarespace Inc/Squarespace 6//v6//EN
BEGIN:VEVENT
UID:5e7dc14e3ae6d4439b683f3e@squarespace.com
DTSTAMP:20200327T090323Z
DTSTART:20200412T010000Z
DTEND:20200412T020000Z
SUMMARY:Sunday Lounge 
END:VEVENT
END:VCALENDAR
