BEGIN:VCALENDAR
VERSION:2.0
PRODID:-//Squarespace Inc/Squarespace 6//v6//EN
BEGIN:VEVENT
UID:5e7dc13baff3dd28068254cd@squarespace.com
DTSTAMP:20200327T090302Z
DTSTART:20200405T010000Z
DTEND:20200405T020000Z
SUMMARY:Sunday Lounge 
END:VEVENT
END:VCALENDAR
