BEGIN:VCALENDAR
VERSION:2.0
PRODID:-//Squarespace Inc/Squarespace 6//v6//EN
BEGIN:VEVENT
UID:5e7ebc4486693d3dcc046172@squarespace.com
DTSTAMP:20200328T025551Z
DTSTART:20200328T223000Z
DTEND:20200328T233000Z
SUMMARY:Online church 
END:VEVENT
END:VCALENDAR
