BEGIN:VCALENDAR
VERSION:2.0
PRODID:-//Squarespace Inc/Squarespace 6//v6//EN
BEGIN:VEVENT
UID:5e7ebcb706b4c3512213fb05@squarespace.com
DTSTAMP:20200328T025605Z
DTSTART:20200404T233000Z
DTEND:20200405T003000Z
SUMMARY:Online church  
END:VEVENT
END:VCALENDAR
