BEGIN:VCALENDAR
VERSION:2.0
PRODID:-//Squarespace Inc/Squarespace 6//v6//EN
BEGIN:VEVENT
UID:5e7ebccc5ed80a4219bb9d92@squarespace.com
DTSTAMP:20200408T113448Z
DTSTART:20200412T000000Z
DTEND:20200412T010000Z
SUMMARY:Online church  
END:VEVENT
END:VCALENDAR
