BEGIN:VCALENDAR
VERSION:2.0
PRODID:-//Squarespace Inc/Squarespace 6//v6//EN
BEGIN:VEVENT
UID:5e927a74a61a5c53925e5782@squarespace.com
DTSTAMP:20200412T023057Z
DTSTART:20200419T000000Z
DTEND:20200419T010000Z
SUMMARY:MBCam Service
END:VEVENT
END:VCALENDAR
