BEGIN:VCALENDAR
VERSION:2.0
PRODID:-//Squarespace Inc/Squarespace 6//v6//EN
BEGIN:VEVENT
UID:5e927cda6017a85e2ec51861@squarespace.com
DTSTAMP:20200412T023103Z
DTSTART:20200426T000000Z
DTEND:20200426T010000Z
SUMMARY:MBCam Service 
END:VEVENT
END:VCALENDAR
