BEGIN:VCALENDAR
VERSION:2.0
PRODID:-//Squarespace Inc/Squarespace 6//v6//EN
BEGIN:VEVENT
UID:5e927c72c047fa5ed9718f31@squarespace.com
DTSTAMP:20200412T023207Z
DTSTART:20200426T070000Z
DTEND:20200426T080000Z
SUMMARY:MBCpm Service
END:VEVENT
END:VCALENDAR
