BEGIN:VCALENDAR
VERSION:2.0
PRODID:-//Squarespace Inc/Squarespace 6//v6//EN
BEGIN:VEVENT
UID:5e927cc5434baa2223d20f98@squarespace.com
DTSTAMP:20200412T023201Z
DTSTART:20200419T070000Z
DTEND:20200419T080000Z
SUMMARY:MBCpm Service 
END:VEVENT
END:VCALENDAR
