BEGIN:VCALENDAR
VERSION:2.0
PRODID:-//Squarespace Inc/Squarespace 6//v6//EN
BEGIN:VEVENT
UID:5ead010034916624d9155fb2@squarespace.com
DTSTAMP:20200502T051148Z
DTSTART:20200516T233000Z
DTEND:20200517T083000Z
SUMMARY:MBC Sunday
END:VEVENT
END:VCALENDAR
