BEGIN:VCALENDAR
VERSION:2.0
PRODID:-//Squarespace Inc/Squarespace 6//v6//EN
BEGIN:VEVENT
UID:5ead01487b605f2924498923@squarespace.com
DTSTAMP:20200502T051302Z
DTSTART:20200530T233000Z
DTEND:20200531T083000Z
SUMMARY:MBC Sunday
END:VEVENT
END:VCALENDAR
