BEGIN:VCALENDAR
VERSION:2.0
PRODID:-//Squarespace Inc/Squarespace 6//v6//EN
BEGIN:VEVENT
UID:5f20e270dc3d6929180b8871@squarespace.com
DTSTAMP:20200807T104433Z
DTSTART:20200815T233000Z
DTEND:20200816T083000Z
SUMMARY:MBC Sunday
END:VEVENT
END:VCALENDAR
