BEGIN:VCALENDAR
VERSION:2.0
PRODID:-//Squarespace Inc/Squarespace 6//v6//EN
BEGIN:VEVENT
UID:5f2d30be39da3b0f3b499ca7@squarespace.com
DTSTAMP:20200807T104615Z
DTSTART:20200919T233000Z
DTEND:20200920T083000Z
SUMMARY:MBC Sunday
END:VEVENT
END:VCALENDAR
