BEGIN:VCALENDAR
VERSION:2.0
PRODID:-//Squarespace Inc/Squarespace 6//v6//EN
BEGIN:VEVENT
UID:5f2d3100c8aa8d60673f7632@squarespace.com
DTSTAMP:20200807T104634Z
DTSTART:20200926T233000Z
DTEND:20200927T083000Z
SUMMARY:MBC Sunday
END:VEVENT
END:VCALENDAR
