BEGIN:VCALENDAR
VERSION:2.0
PRODID:-//Squarespace Inc/Squarespace 6//v6//EN
BEGIN:VEVENT
UID:5f2d30e16ba07c7942fae595@squarespace.com
DTSTAMP:20200807T104652Z
DTSTART:20200912T233000Z
DTEND:20200913T083000Z
SUMMARY:MBC Sunday 
END:VEVENT
END:VCALENDAR
