BEGIN:VCALENDAR
VERSION:2.0
PRODID:-//Squarespace Inc/Squarespace 6//v6//EN
BEGIN:VEVENT
UID:5f2d312eae1ed267801e9fbc@squarespace.com
DTSTAMP:20200807T104725Z
DTSTART:20200905T233000Z
DTEND:20200906T083000Z
SUMMARY:MBC Sunday
END:VEVENT
END:VCALENDAR
