BEGIN:VCALENDAR
VERSION:2.0
PRODID:-//Squarespace Inc/Squarespace 6//v6//EN
BEGIN:VEVENT
UID:5ee45996af4dad4343c82ae6@squarespace.com
DTSTAMP:20200613T044517Z
DTSTART:20200725T233000Z
DTEND:20200726T003000Z
SUMMARY:Kids Church Commence Term 3
END:VEVENT
END:VCALENDAR
