BEGIN:VCALENDAR
VERSION:2.0
PRODID:-//Squarespace Inc/Squarespace 6//v6//EN
BEGIN:VEVENT
UID:5dfb3dce7ada392db098550b@squarespace.com
DTSTAMP:20191219T091322Z
DTSTART:20191220T080000Z
DTEND:20191220T100000Z
SUMMARY:Friday Hangout 
END:VEVENT
END:VCALENDAR
