BEGIN:VCALENDAR
VERSION:2.0
PRODID:-//Squarespace Inc/Squarespace 6//v6//EN
BEGIN:VEVENT
UID:5dfb3f821bce8b170425c577@squarespace.com
DTSTAMP:20191219T091505Z
DTSTART:20200103T080000Z
DTEND:20200103T100000Z
SUMMARY:Friday Hangout 
END:VEVENT
END:VCALENDAR
