BEGIN:VCALENDAR
VERSION:2.0
PRODID:-//Squarespace Inc/Squarespace 6//v6//EN
BEGIN:VEVENT
UID:5e9285e1e630e073145cf9bb@squarespace.com
DTSTAMP:20200412T030941Z
DTSTART:20200518T093000Z
DTEND:20200518T103000Z
SUMMARY:Explore Session 2
END:VEVENT
END:VCALENDAR
