BEGIN:VCALENDAR
VERSION:2.0
PRODID:-//Squarespace Inc/Squarespace 6//v6//EN
BEGIN:VEVENT
UID:5e92863b3f49493c11602ebb@squarespace.com
DTSTAMP:20200412T030932Z
DTSTART:20200511T093000Z
DTEND:20200511T103000Z
SUMMARY:Explore Session 3
END:VEVENT
END:VCALENDAR
