BEGIN:VCALENDAR
VERSION:2.0
PRODID:-//Squarespace Inc/Squarespace 6//v6//EN
BEGIN:VEVENT
UID:5f40f53e7851a152fdf909eb@squarespace.com
DTSTAMP:20200822T104217Z
DTSTART:20200909T093000Z
DTEND:20200909T103000Z
SUMMARY:Explore Course (English) - Part 1
END:VEVENT
END:VCALENDAR
