BEGIN:VCALENDAR
VERSION:2.0
PRODID:-//Squarespace Inc/Squarespace 6//v6//EN
BEGIN:VEVENT
UID:5f40f5fa85783706be0df3ad@squarespace.com
DTSTAMP:20200822T104200Z
DTSTART:20200916T093000Z
DTEND:20200916T103000Z
SUMMARY:Explore Course (English) - Part 2
END:VEVENT
END:VCALENDAR
