BEGIN:VCALENDAR
VERSION:2.0
PRODID:-//Squarespace Inc/Squarespace 6//v6//EN
BEGIN:VEVENT
UID:5f40f67861f8cf24f5a060db@squarespace.com
DTSTAMP:20200822T104421Z
DTSTART:20200923T093000Z
DTEND:20200923T103000Z
SUMMARY:Explore Course (English) - Part 3
END:VEVENT
END:VCALENDAR
