BEGIN:VCALENDAR
VERSION:2.0
PRODID:-//Squarespace Inc/Squarespace 6//v6//EN
BEGIN:VEVENT
UID:5f40f6897999cb5b507a688a@squarespace.com
DTSTAMP:20200822T104335Z
DTSTART:20200913T043000Z
DTEND:20200913T053000Z
SUMMARY:Explore Course (Cantonese) - Part 1
END:VEVENT
END:VCALENDAR
