BEGIN:VCALENDAR
VERSION:2.0
PRODID:-//Squarespace Inc/Squarespace 6//v6//EN
BEGIN:VEVENT
UID:5f40f6be327e111450705754@squarespace.com
DTSTAMP:20200822T104354Z
DTSTART:20200927T043000Z
DTEND:20200927T053000Z
SUMMARY:Explore Course (Cantonese) - Part 3
END:VEVENT
END:VCALENDAR
