BEGIN:VCALENDAR
VERSION:2.0
PRODID:-//Squarespace Inc/Squarespace 6//v6//EN
BEGIN:VEVENT
UID:5f40f751381f2c334d2654b8@squarespace.com
DTSTAMP:20200822T104550Z
DTSTART:20200920T043000Z
DTEND:20200920T053000Z
SUMMARY:Explore Course (Cantonese) - Part 2
END:VEVENT
END:VCALENDAR
