BEGIN:VCALENDAR
VERSION:2.0
PRODID:-//Squarespace Inc/Squarespace 6//v6//EN
BEGIN:VEVENT
UID:5e27cdc897f8785bbf3d99bc@squarespace.com
DTSTAMP:20200408T114030Z
DTSTART:20200411T233000Z
DTEND:20200412T073000Z
SUMMARY:10am &amp\; 5pm Easter Sunday Service ONLINE
END:VEVENT
END:VCALENDAR
