BEGIN:VCALENDAR
VERSION:2.0
PRODID:-//Squarespace Inc/Squarespace 6//v6//EN
BEGIN:VEVENT
UID:5eb00211af500209572df8d7@squarespace.com
DTSTAMP:20200504T120749Z
DTSTART:20200511T090000Z
DTEND:20200511T103000Z
SUMMARY:Core Training - Wk 1
END:VEVENT
END:VCALENDAR
