BEGIN:VCALENDAR
VERSION:2.0
PRODID:-//Squarespace Inc/Squarespace 6//v6//EN
BEGIN:VEVENT
UID:5eb004f536b2d874cef4e7c9@squarespace.com
DTSTAMP:20200504T120830Z
DTSTART:20200525T090000Z
DTEND:20200525T103000Z
SUMMARY:Core Training - Wk 3
END:VEVENT
END:VCALENDAR
