BEGIN:VCALENDAR
VERSION:2.0
PRODID:-//Squarespace Inc/Squarespace 6//v6//EN
BEGIN:VEVENT
UID:5e2a622359c76916bb8882cd@squarespace.com
DTSTAMP:20200529T065548Z
DTSTART:20200611T093000Z
DTEND:20200611T103000Z
SUMMARY:Church Prayer Night #1
END:VEVENT
END:VCALENDAR
