BEGIN:VCALENDAR
VERSION:2.0
PRODID:-//Squarespace Inc/Squarespace 6//v6//EN
BEGIN:VEVENT
UID:5e2a6420f0a5822b10b15156@squarespace.com
DTSTAMP:20201113T131221Z
DTSTART:20201127T223000Z
DTEND:20201128T000000Z
SUMMARY:Church Prayer Morning
END:VEVENT
END:VCALENDAR
