BEGIN:VCALENDAR
VERSION:2.0
PRODID:-//Squarespace Inc/Squarespace 6//v6//EN
BEGIN:VEVENT
UID:5e2a649cdb08282f9a997560@squarespace.com
DTSTAMP:20201224T015515Z
DTSTART:20201224T223000Z
DTEND:20201224T233000Z
SUMMARY:Christmas Day Service 
END:VEVENT
END:VCALENDAR
