BEGIN:VCALENDAR
VERSION:2.0
PRODID:-//Squarespace Inc/Squarespace 6//v6//EN
BEGIN:VEVENT
UID:5e2a6432f0a5822b10b15548@squarespace.com
DTSTAMP:20201207T154055Z
DTSTART:20201213T070000Z
DTEND:20201213T090000Z
SUMMARY:Carols Night 
END:VEVENT
END:VCALENDAR
